BEGIN:VCALENDAR
VERSION:2.0
PRODID:-//Alaqua - ECPv6.15.20//NONSGML v1.0//EN
CALSCALE:GREGORIAN
METHOD:PUBLISH
X-WR-CALNAME:Alaqua
X-ORIGINAL-URL:https://alaqua.org
X-WR-CALDESC:Events for Alaqua
REFRESH-INTERVAL;VALUE=DURATION:PT1H
X-Robots-Tag:noindex
X-PUBLISHED-TTL:PT1H
BEGIN:VTIMEZONE
TZID:America/Chicago
BEGIN:DAYLIGHT
TZOFFSETFROM:-0600
TZOFFSETTO:-0500
TZNAME:CDT
DTSTART:20250309T080000
END:DAYLIGHT
BEGIN:STANDARD
TZOFFSETFROM:-0500
TZOFFSETTO:-0600
TZNAME:CST
DTSTART:20251102T070000
END:STANDARD
BEGIN:DAYLIGHT
TZOFFSETFROM:-0600
TZOFFSETTO:-0500
TZNAME:CDT
DTSTART:20260308T080000
END:DAYLIGHT
BEGIN:STANDARD
TZOFFSETFROM:-0500
TZOFFSETTO:-0600
TZNAME:CST
DTSTART:20261101T070000
END:STANDARD
BEGIN:DAYLIGHT
TZOFFSETFROM:-0600
TZOFFSETTO:-0500
TZNAME:CDT
DTSTART:20270314T080000
END:DAYLIGHT
BEGIN:STANDARD
TZOFFSETFROM:-0500
TZOFFSETTO:-0600
TZNAME:CST
DTSTART:20271107T070000
END:STANDARD
END:VTIMEZONE
BEGIN:VEVENT
DTSTART;VALUE=DATE:20260509
DTEND;VALUE=DATE:20260510
DTSTAMP:20260420T062239
CREATED:20260201T213211Z
LAST-MODIFIED:20260218T152826Z
UID:171798-1778284800-1778371199@alaqua.org
SUMMARY:5th Annual FORE the Love of Animals Golf Tournament
DESCRIPTION:5th Annual FORE! The Love of Animals Golf Tournament Presented by Sandestin Investments \nSaturday\, May 9\, 2026 \nThe Links Golf Club at Sandestin\n8:30 am Check-In\nBreakfast / Bloody Mary & Mimosa Bar \n10 am Shotgun Start / Scramble Format \nTeams of 4\n(Individual Players will be paired)\n18 Holes with Cart\nBoxed Lunch • 2 Drink Tickets\n$250 Individual • $850 Team of 4 \n*Register before March 9th to receive ‘Fast Fetch’ pricing of $750 \nPost-Tournament “Pups & Pours” Awards Ceremony \nHors d’oeuvres • Beer & Wine • Raffles\nPrizes for 1st\, 2nd\, and 3rd place teams & Most Spirited \nClosest to the Hole (ladies and mens)\nClosest to the Snake \n1st place team receives team entry into 2027 Tournament
URL:https://alaqua.org/events/5th-annual-fore-the-love-of-animals-golf-tournament/
LOCATION:Links Golf Club at Sandestin\, 165 Sandestin Blvd N\,\, Miramar Beach\, FL\, 32550
ATTACH;FMTTYPE=image/png:https://alaqua.org/wp-content/uploads/2026/02/AAR-Golf-Tournament-2026_FB-Event_1-1.png
END:VEVENT
END:VCALENDAR