BEGIN:VCALENDAR
VERSION:2.0
PRODID:-//Alaqua - ECPv6.15.20//NONSGML v1.0//EN
CALSCALE:GREGORIAN
METHOD:PUBLISH
X-WR-CALNAME:Alaqua
X-ORIGINAL-URL:https://alaqua.org
X-WR-CALDESC:Events for Alaqua
REFRESH-INTERVAL;VALUE=DURATION:PT1H
X-Robots-Tag:noindex
X-PUBLISHED-TTL:PT1H
BEGIN:VTIMEZONE
TZID:America/Chicago
BEGIN:DAYLIGHT
TZOFFSETFROM:-0600
TZOFFSETTO:-0500
TZNAME:CDT
DTSTART:20250309T080000
END:DAYLIGHT
BEGIN:STANDARD
TZOFFSETFROM:-0500
TZOFFSETTO:-0600
TZNAME:CST
DTSTART:20251102T070000
END:STANDARD
BEGIN:DAYLIGHT
TZOFFSETFROM:-0600
TZOFFSETTO:-0500
TZNAME:CDT
DTSTART:20260308T080000
END:DAYLIGHT
BEGIN:STANDARD
TZOFFSETFROM:-0500
TZOFFSETTO:-0600
TZNAME:CST
DTSTART:20261101T070000
END:STANDARD
BEGIN:DAYLIGHT
TZOFFSETFROM:-0600
TZOFFSETTO:-0500
TZNAME:CDT
DTSTART:20270314T080000
END:DAYLIGHT
BEGIN:STANDARD
TZOFFSETFROM:-0500
TZOFFSETTO:-0600
TZNAME:CST
DTSTART:20271107T070000
END:STANDARD
END:VTIMEZONE
BEGIN:VEVENT
DTSTART;TZID=America/Chicago:20260523T163000
DTEND;TZID=America/Chicago:20260523T210000
DTSTAMP:20260420T110257
CREATED:20260413T173939Z
LAST-MODIFIED:20260413T173939Z
UID:173042-1779553800-1779570000@alaqua.org
SUMMARY:A Night of Comedy with Darren Knight (aka Southern Momma)\, Red Squirrel\, and Special Guest Nicole Starnes
DESCRIPTION:Get ready for an unforgettable night of laughter\, music\, and Southern charm at Angel’s Arena at Alaqua Animal Refuge! \nKick off the evening with live bluegrass from The Black Creek Strings Band\, then settle in for a comedy experience headlined by Darren Knight (aka Southern Momma)\, one of the fastest-rising comedians in the country. Named one of Variety’s “10 Comics to Watch\,” Darren has amassed millions of fans\, sold out theaters and casinos nationwide\, and built a devoted following with his wildly relatable Southern humor. He’ll be joined by fan-favorite Red Squirrel\, known for her razor-sharp wit\, high-energy storytelling\, and years touring alongside Darren\, plus special guest Nicole Starnes. \n✨ First come\, first served seating\n🌟 VIP seating reserved for sponsors\n🍻 Alcohol available for a suggested donation\n🌮 Food trucks on-site \nGates open 4:30 * Black Creek Strings Band 5:00 * Southern Mama 7:00 \nFrom the charm of the refuge and the sounds of live bluegrass to an evening packed with big laughs\, this is more than a show\, it’s a full night of entertainment for a great cause. \nGrab your tickets now and join us for a night of laughter\, music\, and heart!
URL:https://alaqua.org/events/a-night-of-comedy-with-darren-knight-aka-southern-momma-red-squirrel-and-special-guest-nicole-starnes/
LOCATION:Alaqua Animal Refuge Inc.\, 155 Dugas Wy\, Freeport\, FL\, 32439\, United States
ATTACH;FMTTYPE=image/png:https://alaqua.org/wp-content/uploads/2026/04/AAR-Comedy-Show_FB-Event.png
END:VEVENT
END:VCALENDAR